BEGIN:VCALENDAR
VERSION:2.0
PRODID:-//AS GOLF POITIERS MIGNALOUX - ECPv5.2.1//NONSGML v1.0//EN
CALSCALE:GREGORIAN
METHOD:PUBLISH
X-WR-CALNAME:AS GOLF POITIERS MIGNALOUX
X-ORIGINAL-URL:https://as-golf-poitiers-mignaloux.com
X-WR-CALDESC:évènements pour AS GOLF POITIERS MIGNALOUX
BEGIN:VTIMEZONE
TZID:Europe/Paris
BEGIN:DAYLIGHT
TZOFFSETFROM:+0100
TZOFFSETTO:+0200
TZNAME:CEST
DTSTART:20210328T010000
END:DAYLIGHT
BEGIN:STANDARD
TZOFFSETFROM:+0200
TZOFFSETTO:+0100
TZNAME:CET
DTSTART:20211031T010000
END:STANDARD
END:VTIMEZONE
BEGIN:VEVENT
DTSTART;VALUE=DATE:20210605
DTEND;VALUE=DATE:20210607
DTSTAMP:20260425T161850
CREATED:20210506T151804Z
LAST-MODIFIED:20210506T152125Z
UID:3397-1622851200-1623023999@as-golf-poitiers-mignaloux.com
SUMMARY:17ÈME GRAND PRIX  DE POITIERS 5 ET 6 JUIN 2021  Golf de MIGNALOUX
DESCRIPTION:
URL:https://as-golf-poitiers-mignaloux.com/competition/17eme-grand-prix-de-poitiers-5-et-6-juin-2021-golf-de-mignaloux/
LOCATION:GOLF DE MIGNALOUX\, 635 Route de Beauvoir\, Mignaloux-Beauvoir\, 86550\, France
END:VEVENT
END:VCALENDAR