BEGIN:VCALENDAR
VERSION:2.0
PRODID:-//AS GOLF POITIERS MIGNALOUX - ECPv5.2.1//NONSGML v1.0//EN
CALSCALE:GREGORIAN
METHOD:PUBLISH
X-WR-CALNAME:AS GOLF POITIERS MIGNALOUX
X-ORIGINAL-URL:https://as-golf-poitiers-mignaloux.com
X-WR-CALDESC:évènements pour AS GOLF POITIERS MIGNALOUX
BEGIN:VTIMEZONE
TZID:Europe/Paris
BEGIN:DAYLIGHT
TZOFFSETFROM:+0100
TZOFFSETTO:+0200
TZNAME:CEST
DTSTART:20210328T010000
END:DAYLIGHT
BEGIN:STANDARD
TZOFFSETFROM:+0200
TZOFFSETTO:+0100
TZNAME:CET
DTSTART:20211031T010000
END:STANDARD
END:VTIMEZONE
BEGIN:VEVENT
DTSTART;TZID=Europe/Paris:20210502T080000
DTEND;TZID=Europe/Paris:20210502T170000
DTSTAMP:20260423T074359
CREATED:20210506T152838Z
LAST-MODIFIED:20210506T152838Z
UID:3400-1619942400-1619974800@as-golf-poitiers-mignaloux.com
SUMMARY:Compétition de classement
DESCRIPTION:
URL:https://as-golf-poitiers-mignaloux.com/competition/competition-de-classement/
LOCATION:GOLF DE MIGNALOUX\, 635 Route de Beauvoir\, Mignaloux-Beauvoir\, 86550\, France
END:VEVENT
END:VCALENDAR