BEGIN:VCALENDAR
VERSION:2.0
PRODID:-//AS GOLF POITIERS MIGNALOUX - ECPv5.2.1//NONSGML v1.0//EN
CALSCALE:GREGORIAN
METHOD:PUBLISH
X-WR-CALNAME:AS GOLF POITIERS MIGNALOUX
X-ORIGINAL-URL:https://as-golf-poitiers-mignaloux.com
X-WR-CALDESC:évènements pour AS GOLF POITIERS MIGNALOUX
BEGIN:VTIMEZONE
TZID:Europe/Paris
BEGIN:DAYLIGHT
TZOFFSETFROM:+0100
TZOFFSETTO:+0200
TZNAME:CEST
DTSTART:20210328T010000
END:DAYLIGHT
BEGIN:STANDARD
TZOFFSETFROM:+0200
TZOFFSETTO:+0100
TZNAME:CET
DTSTART:20211031T010000
END:STANDARD
END:VTIMEZONE
BEGIN:VEVENT
DTSTART;VALUE=DATE:20210704
DTEND;VALUE=DATE:20210705
DTSTAMP:20260425T211007
CREATED:20210626T210611Z
LAST-MODIFIED:20210626T210812Z
UID:3530-1625356800-1625443199@as-golf-poitiers-mignaloux.com
SUMMARY:Compétition des concessions Citroën / Peugeot du 04/07/2021
DESCRIPTION:
URL:https://as-golf-poitiers-mignaloux.com/competition/competition-des-concessions-citroen-peugeot-du-04-07-2021/
LOCATION:GOLF DE MIGNALOUX\, 635 Route de Beauvoir\, Mignaloux-Beauvoir\, 86550\, France
END:VEVENT
END:VCALENDAR