BEGIN:VCALENDAR
VERSION:2.0
PRODID:-//AS GOLF POITIERS MIGNALOUX - ECPv5.2.1//NONSGML v1.0//EN
CALSCALE:GREGORIAN
METHOD:PUBLISH
X-WR-CALNAME:AS GOLF POITIERS MIGNALOUX
X-ORIGINAL-URL:https://as-golf-poitiers-mignaloux.com
X-WR-CALDESC:évènements pour AS GOLF POITIERS MIGNALOUX
BEGIN:VTIMEZONE
TZID:Europe/Paris
BEGIN:DAYLIGHT
TZOFFSETFROM:+0100
TZOFFSETTO:+0200
TZNAME:CEST
DTSTART:20200329T010000
END:DAYLIGHT
BEGIN:STANDARD
TZOFFSETFROM:+0200
TZOFFSETTO:+0100
TZNAME:CET
DTSTART:20201025T010000
END:STANDARD
END:VTIMEZONE
BEGIN:VEVENT
DTSTART;TZID=Europe/Paris:20200926T080000
DTEND;TZID=Europe/Paris:20200926T170000
DTSTAMP:20260423T003541
CREATED:20200804T051635Z
LAST-MODIFIED:20200903T061338Z
UID:2914-1601107200-1601139600@as-golf-poitiers-mignaloux.com
SUMMARY:Compétition Square Habitat Crédit Agricole
DESCRIPTION:Inscription ici.
URL:https://as-golf-poitiers-mignaloux.com/competition/competition-square-habitat-credit-agricole/
LOCATION:GOLF DE MIGNALOUX\, 635 Route de Beauvoir\, Mignaloux-Beauvoir\, 86550\, France
END:VEVENT
END:VCALENDAR